BEGIN:VCALENDAR
VERSION:2.0
PRODID:-//AUTELIER - ECPv6.15.20//NONSGML v1.0//EN
CALSCALE:GREGORIAN
METHOD:PUBLISH
X-WR-CALNAME:AUTELIER
X-ORIGINAL-URL:https://autelier.org
X-WR-CALDESC:Eventi per AUTELIER
REFRESH-INTERVAL;VALUE=DURATION:PT1H
X-Robots-Tag:noindex
X-PUBLISHED-TTL:PT1H
BEGIN:VTIMEZONE
TZID:Europe/Rome
BEGIN:DAYLIGHT
TZOFFSETFROM:+0100
TZOFFSETTO:+0200
TZNAME:CEST
DTSTART:20240331T010000
END:DAYLIGHT
BEGIN:STANDARD
TZOFFSETFROM:+0200
TZOFFSETTO:+0100
TZNAME:CET
DTSTART:20241027T010000
END:STANDARD
BEGIN:DAYLIGHT
TZOFFSETFROM:+0100
TZOFFSETTO:+0200
TZNAME:CEST
DTSTART:20250330T010000
END:DAYLIGHT
BEGIN:STANDARD
TZOFFSETFROM:+0200
TZOFFSETTO:+0100
TZNAME:CET
DTSTART:20251026T010000
END:STANDARD
BEGIN:DAYLIGHT
TZOFFSETFROM:+0100
TZOFFSETTO:+0200
TZNAME:CEST
DTSTART:20260329T010000
END:DAYLIGHT
BEGIN:STANDARD
TZOFFSETFROM:+0200
TZOFFSETTO:+0100
TZNAME:CET
DTSTART:20261025T010000
END:STANDARD
END:VTIMEZONE
BEGIN:VEVENT
DTSTART;TZID=Europe/Rome:20251127T163000
DTEND;TZID=Europe/Rome:20251127T210000
DTSTAMP:20260421T113741
CREATED:20251107T193917Z
LAST-MODIFIED:20251107T202236Z
UID:2402-1764261000-1764277200@autelier.org
SUMMARY:Christmas Shooting in AUTelier
DESCRIPTION:Un pomeriggio di scatti\, luci e magia natalizia nello spazio più inclusivo che c’è!\n\n\n\nAUTelier si trasforma in un set fotografico natalizio per regalarti il ritratto perfetto per i tuoi auguri digitali o per la stampa. \nGiovedì 27 novembre\, dalle ore 16.30 alle ore 21.00\, o giovedì 11 dicembre\, dalle ore 13.00 alle 17.30. \n  \n\n\n\n📸 COME FUNZIONA \n\n\n\n👉 Prenota il tuo shooting e scegli il soggetto degli scatti: \n\n\n\n\ntu da sola\n\n\n\ncon il tuo bambino \n\n\n\ncon le amiche o con la famiglia\n\n\n\n\nIl fotografo professionista Andrea Angelucci catturerà i vostri momenti migliori in un’atmosfera calda e accogliente. \n\n\n\n  \n🎁 COSA INCLUDE \n\n\n\n\nShooting personalizzato\n\n\n\nTutti gli scatti più belli selezionati e inviati via mail\n\n\n\nImmagini pronte da usare per i tuoi auguri di Natale o da stampare come ricordo\n\n\n\n\nContributo: €40 a shooting \nUna parte del ricavato sarà devoluta a sostegno dei progetti di AUTelier \n\n\n\n  \n💌 PERCHÉ PARTECIPARE \n\n\n\n✨ Per regalarti (o regalare) un ricordo speciale \n✨ Per sostenere il lavoro e la formazione dei ragazzi e delle ragazze della cooperativa \n✨ Per vivere un’esperienza creativa\, solidale e… bellissima! \n\n\n\n  \nPRENOTAZIONE OBBLIGATORIA \n\n\n\nScrivi un email a segreteria@auteliercooperativa.org o invia un messaggio su whatsapp al numero 3519575683 per riservare il tuo posto. \nI posti sono limitati! \n\n\n\nRegalati o regala lo scatto perfetto in AUTelier\, dove l’inclusione è sempre la nostra migliore luce.
URL:https://autelier.org/event/christmas-shooting-in-autelier/
CATEGORIES:Eventi
ATTACH;FMTTYPE=image/jpeg:https://autelier.org/wp-content/uploads/2025/11/Christmas-Shooting.jpg
END:VEVENT
END:VCALENDAR