BEGIN:VCALENDAR
VERSION:2.0
PRODID:-//AUTELIER - ECPv6.15.20//NONSGML v1.0//EN
CALSCALE:GREGORIAN
METHOD:PUBLISH
X-WR-CALNAME:AUTELIER
X-ORIGINAL-URL:https://autelier.org
X-WR-CALDESC:Eventi per AUTELIER
REFRESH-INTERVAL;VALUE=DURATION:PT1H
X-Robots-Tag:noindex
X-PUBLISHED-TTL:PT1H
BEGIN:VTIMEZONE
TZID:Europe/Rome
BEGIN:DAYLIGHT
TZOFFSETFROM:+0100
TZOFFSETTO:+0200
TZNAME:CEST
DTSTART:20240331T010000
END:DAYLIGHT
BEGIN:STANDARD
TZOFFSETFROM:+0200
TZOFFSETTO:+0100
TZNAME:CET
DTSTART:20241027T010000
END:STANDARD
BEGIN:DAYLIGHT
TZOFFSETFROM:+0100
TZOFFSETTO:+0200
TZNAME:CEST
DTSTART:20250330T010000
END:DAYLIGHT
BEGIN:STANDARD
TZOFFSETFROM:+0200
TZOFFSETTO:+0100
TZNAME:CET
DTSTART:20251026T010000
END:STANDARD
BEGIN:DAYLIGHT
TZOFFSETFROM:+0100
TZOFFSETTO:+0200
TZNAME:CEST
DTSTART:20260329T010000
END:DAYLIGHT
BEGIN:STANDARD
TZOFFSETFROM:+0200
TZOFFSETTO:+0100
TZNAME:CET
DTSTART:20261025T010000
END:STANDARD
END:VTIMEZONE
BEGIN:VEVENT
DTSTART;TZID=Europe/Rome:20251119T180000
DTEND;TZID=Europe/Rome:20251119T193000
DTSTAMP:20260419T152602
CREATED:20251110T150331Z
LAST-MODIFIED:20251112T202204Z
UID:2415-1763575200-1763580600@autelier.org
SUMMARY:Natale? No stress\, solidale e inclusivo!
DESCRIPTION:🗓 Mercoledì 19 novembre\, ore 18.00\, ti aspettiamo con un bicchiere di prosecco (o succo d’ananas!) in mano \nIl conto alla rovescia per il Natale è ufficialmente iniziato!\nE se per una volta lo shopping natalizio fosse un momento di relax\, chiacchiere e soluzioni su misura? \nMetti alla prova il team di AUTelier: raccontaci a chi è destinato il tuo regalo — amica\, collega\, marito\, capo… — e il tuo budget\, noi penseremo al resto! 🎁 \n✨ COSA SUCCEDERA’ \n\nAccoglienza con brindisi e dolcetti natalizi\n🎁 Sessione personalizzata di “gift coaching” con i ragazzi e le ragazze di AUTelier\nTante idee regalo pronte\, selezionate per gusto\, stile e sostenibilità\nPossibilità di confezionamento immediato in negozio\n\n  \n🌟 PERCHE’ PARTECIPARE \n\nScopri come fare regali belli\, etici e inclusivi \nVivi l’esperienza di shopping solidale in un’atmosfera accogliente e divertente\nDai valore al tuo tempo… e ai tuoi acquisti\, sostenendo i progetti di autonomia dei ragazzi e delle ragazze nello spettro autistico\n\n  \nINGRESSO LIBERO \nPrenotazione consigliata\, scrivi un email a segreteria@auteliercooperativa.org o invia un messaggio su whatsapp al numero 3519575683 per riservare il tuo posto. \nAUTelier pensa\, tu rilassati.\nIl regalo perfetto (e solidale) lo trovi qui
URL:https://autelier.org/event/natale-no-stress/
CATEGORIES:Eventi
ATTACH;FMTTYPE=image/jpeg:https://autelier.org/wp-content/uploads/2025/11/Aperitivo-Natale-AUTelier.jpg
END:VEVENT
END:VCALENDAR