BEGIN:VCALENDAR
VERSION:2.0
PRODID:-//AUTELIER - ECPv6.15.20//NONSGML v1.0//EN
CALSCALE:GREGORIAN
METHOD:PUBLISH
X-WR-CALNAME:AUTELIER
X-ORIGINAL-URL:https://autelier.org
X-WR-CALDESC:Eventi per AUTELIER
REFRESH-INTERVAL;VALUE=DURATION:PT1H
X-Robots-Tag:noindex
X-PUBLISHED-TTL:PT1H
BEGIN:VTIMEZONE
TZID:Europe/Rome
BEGIN:DAYLIGHT
TZOFFSETFROM:+0100
TZOFFSETTO:+0200
TZNAME:CEST
DTSTART:20240331T010000
END:DAYLIGHT
BEGIN:STANDARD
TZOFFSETFROM:+0200
TZOFFSETTO:+0100
TZNAME:CET
DTSTART:20241027T010000
END:STANDARD
BEGIN:DAYLIGHT
TZOFFSETFROM:+0100
TZOFFSETTO:+0200
TZNAME:CEST
DTSTART:20250330T010000
END:DAYLIGHT
BEGIN:STANDARD
TZOFFSETFROM:+0200
TZOFFSETTO:+0100
TZNAME:CET
DTSTART:20251026T010000
END:STANDARD
BEGIN:DAYLIGHT
TZOFFSETFROM:+0100
TZOFFSETTO:+0200
TZNAME:CEST
DTSTART:20260329T010000
END:DAYLIGHT
BEGIN:STANDARD
TZOFFSETFROM:+0200
TZOFFSETTO:+0100
TZNAME:CET
DTSTART:20261025T010000
END:STANDARD
END:VTIMEZONE
BEGIN:VEVENT
DTSTART;TZID=Europe/Rome:20251125T183000
DTEND;TZID=Europe/Rome:20251125T190000
DTSTAMP:20260421T161547
CREATED:20251111T205451Z
LAST-MODIFIED:20251112T163520Z
UID:2422-1764095400-1764097200@autelier.org
SUMMARY:Giornata internazionale contro la violenza sulle donne – Al via Young PINK Network
DESCRIPTION:The PINK Network presenta Young PINK Network: una nuova rete per crescere insieme\nIn occasione della Giornata internazionale contro la violenza sulle donne\, The PINK Network presenta ufficialmente Young PINK Network – YouPInet\, un progetto promosso da Easymamma APS\, in collaborazione con Young Care Italia e DIESIS APS. \n📅 Lunedì 25 novembre\, ore 18.30\n📍 AUTelier\, Via dei Valtorta 30 – Milano \nYoung PINK Network nasce per promuovere empowerment\, inclusione e partecipazione attiva tra le giovani donne under 30\, offrendo spazi di confronto\, formazione e supporto per costruire una rete territoriale di relazioni e opportunità. \nL’appuntamento del 25 novembre sarà l’occasione per raccontare il progetto\, condividere obiettivi e valori e\, soprattutto\, invitare le ragazze a farne parte\, per conoscersi\, fare rete e crescere insieme. \nUn momento di incontro\, ascolto e consapevolezza per dare forza alle connessioni tra donne e generazioni.\nPartecipa e invita a partecipare altre \n💌 Per informazioni: info@thepinknetwork.it
URL:https://autelier.org/event/young-pink-network/
CATEGORIES:Eventi
ATTACH;FMTTYPE=image/jpeg:https://autelier.org/wp-content/uploads/2025/11/AUTelier-YouPInet.jpg
END:VEVENT
END:VCALENDAR