BEGIN:VCALENDAR
VERSION:2.0
PRODID:-//AUTELIER - ECPv6.15.20//NONSGML v1.0//EN
CALSCALE:GREGORIAN
METHOD:PUBLISH
X-WR-CALNAME:AUTELIER
X-ORIGINAL-URL:https://autelier.org
X-WR-CALDESC:Eventi per AUTELIER
REFRESH-INTERVAL;VALUE=DURATION:PT1H
X-Robots-Tag:noindex
X-PUBLISHED-TTL:PT1H
BEGIN:VTIMEZONE
TZID:Europe/Rome
BEGIN:DAYLIGHT
TZOFFSETFROM:+0100
TZOFFSETTO:+0200
TZNAME:CEST
DTSTART:20230326T010000
END:DAYLIGHT
BEGIN:STANDARD
TZOFFSETFROM:+0200
TZOFFSETTO:+0100
TZNAME:CET
DTSTART:20231029T010000
END:STANDARD
BEGIN:DAYLIGHT
TZOFFSETFROM:+0100
TZOFFSETTO:+0200
TZNAME:CEST
DTSTART:20240331T010000
END:DAYLIGHT
BEGIN:STANDARD
TZOFFSETFROM:+0200
TZOFFSETTO:+0100
TZNAME:CET
DTSTART:20241027T010000
END:STANDARD
BEGIN:DAYLIGHT
TZOFFSETFROM:+0100
TZOFFSETTO:+0200
TZNAME:CEST
DTSTART:20250330T010000
END:DAYLIGHT
BEGIN:STANDARD
TZOFFSETFROM:+0200
TZOFFSETTO:+0100
TZNAME:CET
DTSTART:20251026T010000
END:STANDARD
END:VTIMEZONE
BEGIN:VEVENT
DTSTART;TZID=Europe/Rome:20240907T173000
DTEND;TZID=Europe/Rome:20240907T193000
DTSTAMP:20260422T013815
CREATED:20240829T144430Z
LAST-MODIFIED:20240830T141217Z
UID:1862-1725730200-1725737400@autelier.org
SUMMARY:AUTelier della musica
DESCRIPTION:Musica\, aperitivo e tanto divertimento!\nSabato 7 settembre dalle ore 17.30\, ti aspettiamo in Spazio AUTelier per un LABORATORIO DI KARAOKE con Dj Luca e Stefania. \nCanteremo insieme\, faremo un piccolo aperitivo e soprattutto ci divertiremo molto! \nAd aprire la serata ci sarà Dario Randazzo con la sua chitarra. Stefania ci aiuterà poi a scaldare le voci e gli animi e poi… sarà il tuo turno! \nVuoi essere tra i primi 10 a scegliere la tua canzone preferita?\nIscriviti subito inviando un’email a segreteria@associazionediesis.org indicando il titolo del brano. \nRicorda che i posti sono limitati\, non perdere questa bella occasione 🙂 \n  \nCONTRIBUTO DI PARTECIPAZIONE \nPer partecipare all’attività è richiesto un contributo di €10\, da corrispondere al momento dell’iscrizione \nIl pagamento può essere effettuato con bonifico bancario con l’indicazione nella causale dell’attività e della data a cui si fa riferimento.\nIBAN IT84Y0200801600000101123203
URL:https://autelier.org/event/autelier-della-musica/
CATEGORIES:Con Diesis
ATTACH;FMTTYPE=image/jpeg:https://autelier.org/wp-content/uploads/2024/08/Autelier-della-musica.jpg
END:VEVENT
END:VCALENDAR